BEGIN:VCALENDAR
VERSION:2.0
PRODID:-//Go Bondi Beach - ECPv6.3.3.1//NONSGML v1.0//EN
CALSCALE:GREGORIAN
METHOD:PUBLISH
X-ORIGINAL-URL:https://gobondibeach.com
X-WR-CALDESC:Events for Go Bondi Beach
REFRESH-INTERVAL;VALUE=DURATION:PT1H
X-Robots-Tag:noindex
X-PUBLISHED-TTL:PT1H
BEGIN:VTIMEZONE
TZID:Europe/London
BEGIN:DAYLIGHT
TZOFFSETFROM:+0000
TZOFFSETTO:+0100
TZNAME:BST
DTSTART:20240331T010000
END:DAYLIGHT
BEGIN:STANDARD
TZOFFSETFROM:+0100
TZOFFSETTO:+0000
TZNAME:GMT
DTSTART:20241027T010000
END:STANDARD
END:VTIMEZONE
BEGIN:VEVENT
DTSTART;VALUE=DATE:20240811
DTEND;VALUE=DATE:20240812
DTSTAMP:20260423T023337
CREATED:20240228T005648Z
LAST-MODIFIED:20240228T151452Z
UID:815-1723334400-1723420799@gobondibeach.com
SUMMARY:City to Surf 2024 – 11th of August
DESCRIPTION:The City to Surf on the 11th of August at Bondi Pavilion is a renowned event that draws participants for a 14 km journey from Sydney’s city center to the iconic Bondi Beach. It’s celebrated for its vibrant community spirit\, fundraising achievements\, and as a beloved tradition for both locals and visitors\, embodying the heart of Sydney through physical endurance and communal celebration​
URL:https://gobondibeach.com/event/city-to-surf-11th-of-august/
CATEGORIES:2024
ATTACH;FMTTYPE=image/jpeg:https://gobondibeach.com/wp-content/uploads/2024/02/City-to-Surf-2024.jpg
END:VEVENT
BEGIN:VEVENT
DTSTART;VALUE=DATE:20241018
DTEND;VALUE=DATE:20241105
DTSTAMP:20260423T023337
CREATED:20240228T010103Z
LAST-MODIFIED:20240229T105227Z
UID:818-1729209600-1730764799@gobondibeach.com
SUMMARY:Sculptures by the Sea 2024
DESCRIPTION:Sculpture by the Sea will grace the Bondi to Tamarama Beach coastal walk again in 2024\, maintaining its status as the world’s largest free public sculpture exhibition. Set against the breathtaking coastal backdrop\, the event transforms a 2km stretch into an outdoor sculpture park\, showcasing over 100 pieces by artists from around the globe. This remarkable exhibition\, running from 18 October to 4 November 2024\, offers a unique blend of art\, nature\, and community spirit\, inviting visitors to explore and engage with contemporary sculpture in an unparalleled setting​
URL:https://gobondibeach.com/event/sculptures-by-the-sea-2024/
CATEGORIES:2024
ATTACH;FMTTYPE=image/jpeg:https://gobondibeach.com/wp-content/uploads/2024/02/Sculptures-by-the-Sea-2024.jpg
END:VEVENT
END:VCALENDAR