BEGIN:VCALENDAR
VERSION:2.0
PRODID:-//Go Bondi Beach - ECPv6.3.3.1//NONSGML v1.0//EN
CALSCALE:GREGORIAN
METHOD:PUBLISH
X-WR-CALNAME:Go Bondi Beach
X-ORIGINAL-URL:https://gobondibeach.com
X-WR-CALDESC:Events for Go Bondi Beach
REFRESH-INTERVAL;VALUE=DURATION:PT1H
X-Robots-Tag:noindex
X-PUBLISHED-TTL:PT1H
BEGIN:VTIMEZONE
TZID:Australia/Sydney
BEGIN:STANDARD
TZOFFSETFROM:+1100
TZOFFSETTO:+1000
TZNAME:AEST
DTSTART:20240406T160000
END:STANDARD
BEGIN:DAYLIGHT
TZOFFSETFROM:+1000
TZOFFSETTO:+1100
TZNAME:AEDT
DTSTART:20241005T160000
END:DAYLIGHT
END:VTIMEZONE
BEGIN:VEVENT
DTSTART;VALUE=DATE:20240216
DTEND;VALUE=DATE:20240304
DTSTAMP:20260424T230838
CREATED:20240227T154725Z
LAST-MODIFIED:20240228T151701Z
UID:806-1708041600-1709510399@gobondibeach.com
SUMMARY:Bondi Beach Party 2024
DESCRIPTION:The Bondi Beach Party\, part of the Sydney Mardi Gras 2024\, took place on February 24th from 2:00 pm to 10:00 pm at Bondi Beach. The event featured international DJs and performers\, with a general admission ticket priced at $239 plus a booking fee. Additional options like the Quickie Pass were available for an enhanced experience​
URL:https://gobondibeach.com/event/bondi-beach-party-2024/
CATEGORIES:2024
ATTACH;FMTTYPE=image/jpeg:https://gobondibeach.com/wp-content/uploads/2024/02/Bondi-Beach-Party-2024.jpg
END:VEVENT
END:VCALENDAR