BEGIN:VCALENDAR
VERSION:2.0
PRODID:-//Go Bondi Beach - ECPv6.3.3.1//NONSGML v1.0//EN
CALSCALE:GREGORIAN
METHOD:PUBLISH
X-WR-CALNAME:Go Bondi Beach
X-ORIGINAL-URL:https://gobondibeach.com
X-WR-CALDESC:Events for Go Bondi Beach
REFRESH-INTERVAL;VALUE=DURATION:PT1H
X-Robots-Tag:noindex
X-PUBLISHED-TTL:PT1H
BEGIN:VTIMEZONE
TZID:Europe/London
BEGIN:DAYLIGHT
TZOFFSETFROM:+0000
TZOFFSETTO:+0100
TZNAME:BST
DTSTART:20240331T010000
END:DAYLIGHT
BEGIN:STANDARD
TZOFFSETFROM:+0100
TZOFFSETTO:+0000
TZNAME:GMT
DTSTART:20241027T010000
END:STANDARD
END:VTIMEZONE
BEGIN:VEVENT
DTSTART;TZID=Europe/London:20240429T190000
DTEND;TZID=Europe/London:20240429T210000
DTSTAMP:20260424T154025
CREATED:20240228T125547Z
LAST-MODIFIED:20240228T125547Z
UID:820-1714417200-1714424400@gobondibeach.com
SUMMARY:Sydney Comedy Festival Showcase 2024
DESCRIPTION:The Sydney Comedy Festival Showcase 2024 at Bondi Pavilion promises a night filled with laughter\, featuring a top-secret lineup of the finest comics from Australia and beyond. With performances scheduled for April 29\, May 6\, and May 13\, this event offers a blend of well-known comedians and emerging talents\, ensuring an evening of unparalleled entertainment. Suitable for ages 15 and up\, it’s a must-attend for comedy enthusiasts looking for a massive night of laughs. Warning: Expect coarse language and adult themes
URL:https://gobondibeach.com/event/sydney-comedy-festival-showcase-2024/
CATEGORIES:2024
ATTACH;FMTTYPE=image/jpeg:https://gobondibeach.com/wp-content/uploads/2024/02/Sydney-Comedy-Festival-Showcase-2024.jpg
END:VEVENT
END:VCALENDAR